BEGIN:VCALENDAR
VERSION:2.0
PRODID:-//Niranjan Bhagat Memorial Trust &amp; Archives - ECPv6.15.18//NONSGML v1.0//EN
CALSCALE:GREGORIAN
METHOD:PUBLISH
X-WR-CALNAME:Niranjan Bhagat Memorial Trust &amp; Archives
X-ORIGINAL-URL:http://www.nbmt.in
X-WR-CALDESC:Events for Niranjan Bhagat Memorial Trust &amp; Archives
REFRESH-INTERVAL;VALUE=DURATION:PT1H
X-Robots-Tag:noindex
X-PUBLISHED-TTL:PT1H
BEGIN:VTIMEZONE
TZID:Asia/Kolkata
BEGIN:STANDARD
TZOFFSETFROM:+0530
TZOFFSETTO:+0530
TZNAME:IST
DTSTART:20250101T000000
END:STANDARD
END:VTIMEZONE
BEGIN:VEVENT
DTSTART;VALUE=DATE:20260422
DTEND;VALUE=DATE:20260423
DTSTAMP:20260422T013819
CREATED:20251122T161953Z
LAST-MODIFIED:20251122T161953Z
UID:2478-1776816000-1776902399@www.nbmt.in
SUMMARY:Tête-à-Tête with Niranjan Bhagat. નિરંજન ભગત સાથે જ્ઞાનગોષ્ઠિ (૨૬)
DESCRIPTION:Tête-à-Tête with Niranjan Bhagat. નિરંજન ભગત સાથે જ્ઞાનગોષ્ઠિ (૨૬)
URL:http://www.nbmt.in/event/tete-a-tete-with-niranjan-bhagat-%e0%aa%a8%e0%aa%bf%e0%aa%b0%e0%aa%82%e0%aa%9c%e0%aa%a8-%e0%aa%ad%e0%aa%97%e0%aa%a4-%e0%aa%b8%e0%aa%be%e0%aa%a5%e0%ab%87-%e0%aa%9c%e0%ab%8d%e0%aa%9e%e0%aa%be-25/
LOCATION:Gujarat
CATEGORIES:Centenary Year
END:VEVENT
END:VCALENDAR